Index of /checkResults/3.16/bioc-LATEST/batchelor/raw-results/kjohnson
Name
Last modified
Size
Description
Parent Directory
-
buildsrc-out.txt
12-Jul-2022 00:06
3.7K
buildsrc-summary.dcf
12-Jul-2022 00:06
347
install-out.txt
12-Jul-2022 00:06
3.0K
install-summary.dcf
12-Jul-2022 00:06
273