Index of /checkResults/3.16/bioc-LATEST/bandle/raw-results/kjohnson
Name
Last modified
Size
Description
Parent Directory
-
buildsrc-out.txt
12-Jul-2022 00:06
873
buildsrc-summary.dcf
12-Jul-2022 00:06
423
install-out.txt
12-Jul-2022 00:06
4.2K
install-summary.dcf
12-Jul-2022 00:06
267