Name | Last modified | Size | Description | |
---|---|---|---|---|
Parent Directory | - | |||
checksrc-summary.dcf | 13-Apr-2023 00:05 | 460 | ||
checksrc-out.txt | 13-Apr-2023 00:05 | 4.5K | ||
buildbin-summary.dcf | 13-Apr-2023 00:05 | 545 | ||
buildbin-out.txt | 13-Apr-2023 00:05 | 1.2K | ||
buildsrc-summary.dcf | 13-Apr-2023 00:05 | 435 | ||
buildsrc-out.txt | 13-Apr-2023 00:05 | 867 | ||
install-summary.dcf | 13-Apr-2023 00:05 | 274 | ||
install-out.txt | 13-Apr-2023 00:05 | 1.0K | ||