Index of /checkResults/3.16/bioc-LATEST/artMS/raw-results/nebbiolo2

[ICO]NameLast modifiedSizeDescription

[DIR]Parent Directory  -  
[TXT]install-out.txt13-Apr-2023 00:04 1.0K 
[   ]install-summary.dcf13-Apr-2023 00:04 255  
[TXT]buildsrc-out.txt13-Apr-2023 00:04 798  
[   ]buildsrc-summary.dcf13-Apr-2023 00:04 411  
[TXT]checksrc-out.txt13-Apr-2023 00:04 3.2K 
[   ]checksrc-summary.dcf13-Apr-2023 00:04 406