Name | Last modified | Size | Description | |
---|---|---|---|---|
Parent Directory | - | |||
install-summary.dcf | 13-Apr-2023 00:04 | 283 | ||
install-out.txt | 13-Apr-2023 00:04 | 1.0K | ||
checksrc-summary.dcf | 13-Apr-2023 00:04 | 462 | ||
checksrc-out.txt | 13-Apr-2023 00:04 | 3.2K | ||
buildsrc-summary.dcf | 13-Apr-2023 00:04 | 452 | ||
buildsrc-out.txt | 13-Apr-2023 00:04 | 854 | ||