Name | Last modified | Size | Description | |
---|---|---|---|---|
Parent Directory | - | |||
checksrc-out.txt | 13-Apr-2023 00:04 | 4.2K | ||
install-out.txt | 13-Apr-2023 00:04 | 1.2K | ||
buildsrc-out.txt | 13-Apr-2023 00:04 | 881 | ||
checksrc-summary.dcf | 13-Apr-2023 00:04 | 426 | ||
buildsrc-summary.dcf | 13-Apr-2023 00:04 | 424 | ||
install-summary.dcf | 13-Apr-2023 00:04 | 265 | ||