Index of /checkResults/3.16/bioc-LATEST/appreci8R/raw-results/kjohnson
Name
Last modified
Size
Description
Parent Directory
-
install-summary.dcf
12-Jul-2022 00:06
275
install-out.txt
12-Jul-2022 00:06
1.1K
buildsrc-summary.dcf
12-Jul-2022 00:06
346
buildsrc-out.txt
12-Jul-2022 00:06
1.3K