Index of /checkResults/3.16/bioc-LATEST/annotatr/raw-results/kjohnson
Name
Last modified
Size
Description
Parent Directory
-
install-out.txt
12-Jul-2022 00:06
742
install-summary.dcf
12-Jul-2022 00:06
273
buildsrc-out.txt
12-Jul-2022 00:06
941
buildsrc-summary.dcf
12-Jul-2022 00:06
344