Index of /checkResults/3.16/bioc-LATEST/alpine/raw-results/kjohnson
Name
Last modified
Size
Description
Parent Directory
-
install-summary.dcf
12-Jul-2022 00:06
269
install-out.txt
12-Jul-2022 00:06
698
buildsrc-summary.dcf
12-Jul-2022 00:06
340
buildsrc-out.txt
12-Jul-2022 00:06
893