Name | Last modified | Size | Description | |
---|---|---|---|---|
Parent Directory | - | |||
install-summary.dcf | 13-Apr-2023 00:04 | 259 | ||
install-out.txt | 13-Apr-2023 00:04 | 1.4K | ||
checksrc-summary.dcf | 13-Apr-2023 00:04 | 414 | ||
checksrc-out.txt | 13-Apr-2023 00:04 | 4.2K | ||
buildsrc-summary.dcf | 13-Apr-2023 00:04 | 418 | ||
buildsrc-out.txt | 13-Apr-2023 00:04 | 899 | ||