Index of /checkResults/3.16/bioc-LATEST/XDE/raw-results/kjohnson
Name
Last modified
Size
Description
Parent Directory
-
install-summary.dcf
12-Jul-2022 00:07
262
install-out.txt
12-Jul-2022 00:07
8.7K
buildsrc-summary.dcf
08-Jul-2022 00:12
334
buildsrc-out.txt
08-Jul-2022 00:12
907