Name | Last modified | Size | Description | |
---|---|---|---|---|
Parent Directory | - | |||
checksrc-out.txt | 13-Apr-2023 00:05 | 3.7K | ||
buildbin-out.txt | 13-Apr-2023 00:05 | 1.4K | ||
install-out.txt | 13-Apr-2023 00:05 | 1.3K | ||
buildsrc-out.txt | 13-Apr-2023 00:05 | 893 | ||
buildbin-summary.dcf | 13-Apr-2023 00:05 | 506 | ||
checksrc-summary.dcf | 13-Apr-2023 00:05 | 447 | ||
buildsrc-summary.dcf | 13-Apr-2023 00:05 | 447 | ||
install-summary.dcf | 13-Apr-2023 00:05 | 265 | ||