![]() | Name | Last modified | Size | Description |
---|---|---|---|---|
![]() | Parent Directory | - | ||
![]() | install-summary.dcf | 13-Apr-2023 00:05 | 274 | |
![]() | install-out.txt | 13-Apr-2023 00:05 | 1.0K | |
![]() | buildsrc-summary.dcf | 13-Apr-2023 00:05 | 464 | |
![]() | buildsrc-out.txt | 13-Apr-2023 00:05 | 854 | |
![]() | checksrc-summary.dcf | 13-Apr-2023 00:05 | 458 | |
![]() | checksrc-out.txt | 13-Apr-2023 00:05 | 3.2K | |
![]() | buildbin-summary.dcf | 13-Apr-2023 00:05 | 533 | |
![]() | buildbin-out.txt | 13-Apr-2023 00:05 | 1.1K | |