![]() | Name | Last modified | Size | Description |
---|---|---|---|---|
![]() | Parent Directory | - | ||
![]() | install-summary.dcf | 13-Apr-2023 00:05 | 264 | |
![]() | install-out.txt | 13-Apr-2023 00:05 | 1.0K | |
![]() | checksrc-summary.dcf | 13-Apr-2023 00:05 | 425 | |
![]() | checksrc-out.txt | 13-Apr-2023 00:05 | 3.3K | |
![]() | buildsrc-summary.dcf | 13-Apr-2023 00:05 | 426 | |
![]() | buildsrc-out.txt | 13-Apr-2023 00:05 | 818 | |