Name | Last modified | Size | Description | |
---|---|---|---|---|
Parent Directory | - | |||
install-summary.dcf | 13-Apr-2023 00:05 | 289 | ||
checksrc-summary.dcf | 13-Apr-2023 00:05 | 487 | ||
buildsrc-summary.dcf | 13-Apr-2023 00:05 | 493 | ||
buildbin-summary.dcf | 13-Apr-2023 00:05 | 576 | ||
buildsrc-out.txt | 13-Apr-2023 00:05 | 921 | ||
checksrc-out.txt | 13-Apr-2023 00:05 | 5.7K | ||
install-out.txt | 13-Apr-2023 00:05 | 7.3K | ||
buildbin-out.txt | 13-Apr-2023 00:05 | 7.5K | ||