Index of /checkResults/3.16/bioc-LATEST/Ularcirc/raw-results/kjohnson
Name
Last modified
Size
Description
Parent Directory
-
buildsrc-out.txt
08-Jul-2022 00:12
964
install-out.txt
12-Jul-2022 00:07
765
buildsrc-summary.dcf
08-Jul-2022 00:12
344
install-summary.dcf
12-Jul-2022 00:07
273