Name | Last modified | Size | Description | |
---|---|---|---|---|
Parent Directory | - | |||
buildbin-out.txt | 14-Dec-2022 01:10 | 3.0K | ||
buildbin-summary.dcf | 14-Dec-2022 01:10 | 515 | ||
buildsrc-out.txt | 13-Apr-2023 00:06 | 1.0K | ||
buildsrc-summary.dcf | 13-Apr-2023 00:06 | 338 | ||
checksrc-out.txt | 14-Dec-2022 01:10 | 3.5K | ||
checksrc-summary.dcf | 14-Dec-2022 01:10 | 439 | ||
install-out.txt | 13-Apr-2023 00:06 | 2.1K | ||
install-summary.dcf | 13-Apr-2023 00:06 | 263 | ||