Index of /checkResults/3.16/bioc-LATEST/TimeSeriesExperiment/raw-results/lconway
Name
Last modified
Size
Description
Parent Directory
-
install-summary.dcf
13-Apr-2023 00:06
295
buildsrc-summary.dcf
13-Apr-2023 00:06
369
buildsrc-out.txt
13-Apr-2023 00:06
1.1K
install-out.txt
13-Apr-2023 00:06
1.2K