Name | Last modified | Size | Description | |
---|---|---|---|---|
Parent Directory | - | |||
buildsrc-out.txt | 13-Apr-2023 00:05 | 873 | ||
buildsrc-summary.dcf | 13-Apr-2023 00:05 | 420 | ||
checksrc-out.txt | 13-Apr-2023 00:05 | 8.1K | ||
checksrc-summary.dcf | 13-Apr-2023 00:05 | 422 | ||
install-out.txt | 13-Apr-2023 00:05 | 963 | ||
install-summary.dcf | 13-Apr-2023 00:05 | 261 | ||