Name | Last modified | Size | Description | |
---|---|---|---|---|
Parent Directory | - | |||
buildbin-out.txt | 13-Apr-2023 00:06 | 2.9K | ||
buildbin-summary.dcf | 13-Apr-2023 00:06 | 538 | ||
buildsrc-out.txt | 13-Apr-2023 00:06 | 916 | ||
buildsrc-summary.dcf | 13-Apr-2023 00:06 | 431 | ||
checksrc-out.txt | 13-Apr-2023 00:06 | 3.7K | ||
checksrc-summary.dcf | 13-Apr-2023 00:06 | 450 | ||
install-out.txt | 13-Apr-2023 00:06 | 2.0K | ||
install-summary.dcf | 13-Apr-2023 00:06 | 272 | ||