Index of /checkResults/3.16/bioc-LATEST/TEKRABber/raw-results/kjohnson
Name
Last modified
Size
Description
Parent Directory
-
install-summary.dcf
12-Jul-2022 00:06
272
install-out.txt
12-Jul-2022 00:06
2.1K
buildsrc-summary.dcf
08-Jul-2022 00:12
345
buildsrc-out.txt
08-Jul-2022 00:12
914