Name | Last modified | Size | Description | |
---|---|---|---|---|
Parent Directory | - | |||
buildsrc-out.txt | 13-Apr-2023 00:05 | 1.2K | ||
buildsrc-summary.dcf | 13-Apr-2023 00:05 | 391 | ||
install-summary.dcf | 13-Apr-2023 00:05 | 286 | ||
install-out.txt | 13-Apr-2023 00:05 | 858 | ||
buildbin-summary.dcf | 11-May-2022 00:04 | 581 | ||
buildbin-out.txt | 11-May-2022 00:04 | 1.2K | ||
checksrc-summary.dcf | 11-May-2022 00:04 | 482 | ||
checksrc-out.txt | 11-May-2022 00:04 | 3.3K | ||