Name | Last modified | Size | Description | |
---|---|---|---|---|
Parent Directory | - | |||
buildsrc-out.txt | 13-Apr-2023 00:05 | 1.1K | ||
buildsrc-summary.dcf | 13-Apr-2023 00:05 | 348 | ||
checksrc-out.txt | 11-May-2022 00:03 | 3.3K | ||
checksrc-summary.dcf | 11-May-2022 00:03 | 456 | ||
install-out.txt | 13-Apr-2023 00:05 | 870 | ||
install-summary.dcf | 13-Apr-2023 00:05 | 277 | ||