Index of /checkResults/3.16/bioc-LATEST/TCGAbiolinksGUI/raw-results/lconway
Name
Last modified
Size
Description
Parent Directory
-
buildsrc-summary.dcf
13-Apr-2023 00:06
358
buildsrc-out.txt
13-Apr-2023 00:06
1.1K
install-summary.dcf
13-Apr-2023 00:06
287
install-out.txt
13-Apr-2023 00:06
917