Index of /checkResults/3.16/bioc-LATEST/TBSignatureProfiler/raw-results/kjohnson
Name
Last modified
Size
Description
Parent Directory
-
buildsrc-out.txt
08-Jul-2022 00:12
1.0K
buildsrc-summary.dcf
08-Jul-2022 00:12
365
install-out.txt
12-Jul-2022 00:06
1.0K
install-summary.dcf
12-Jul-2022 00:06
291