Name | Last modified | Size | Description | |
---|---|---|---|---|
Parent Directory | - | |||
buildbin-summary.dcf | 13-Apr-2023 00:06 | 542 | ||
buildbin-out.txt | 13-Apr-2023 00:06 | 1.1K | ||
checksrc-summary.dcf | 13-Apr-2023 00:06 | 452 | ||
checksrc-out.txt | 13-Apr-2023 00:06 | 3.1K | ||
buildsrc-summary.dcf | 13-Apr-2023 00:06 | 432 | ||
buildsrc-out.txt | 13-Apr-2023 00:06 | 752 | ||
install-summary.dcf | 13-Apr-2023 00:06 | 273 | ||
install-out.txt | 13-Apr-2023 00:06 | 962 | ||