Name | Last modified | Size | Description | |
---|---|---|---|---|
Parent Directory | - | |||
checksrc-out.txt | 13-Apr-2023 00:05 | 4.6K | ||
buildbin-out.txt | 13-Apr-2023 00:05 | 1.2K | ||
install-out.txt | 13-Apr-2023 00:05 | 1.0K | ||
buildsrc-out.txt | 13-Apr-2023 00:05 | 1.0K | ||
buildbin-summary.dcf | 13-Apr-2023 00:05 | 613 | ||
checksrc-summary.dcf | 13-Apr-2023 00:05 | 519 | ||
buildsrc-summary.dcf | 13-Apr-2023 00:05 | 518 | ||
install-summary.dcf | 13-Apr-2023 00:05 | 301 | ||