Index of /checkResults/3.16/bioc-LATEST/Spaniel/raw-results/lconway

[ICO]NameLast modifiedSizeDescription

[DIR]Parent Directory  -  
[   ]install-summary.dcf13-Apr-2023 00:06 269  
[TXT]install-out.txt13-Apr-2023 00:06 1.0K 
[   ]checksrc-summary.dcf13-Apr-2023 00:06 444  
[TXT]checksrc-out.txt13-Apr-2023 00:06 2.9K 
[   ]buildsrc-summary.dcf13-Apr-2023 00:06 427  
[TXT]buildsrc-out.txt13-Apr-2023 00:06 856  
[   ]buildbin-summary.dcf13-Apr-2023 00:06 530  
[TXT]buildbin-out.txt13-Apr-2023 00:06 1.1K