Name | Last modified | Size | Description | |
---|---|---|---|---|
Parent Directory | - | |||
buildbin-out.txt | 13-Apr-2023 00:05 | 1.1K | ||
buildbin-summary.dcf | 13-Apr-2023 00:05 | 515 | ||
buildsrc-out.txt | 13-Apr-2023 00:05 | 899 | ||
buildsrc-summary.dcf | 13-Apr-2023 00:05 | 453 | ||
checksrc-out.txt | 13-Apr-2023 00:05 | 7.8K | ||
checksrc-summary.dcf | 13-Apr-2023 00:05 | 447 | ||
install-out.txt | 13-Apr-2023 00:05 | 971 | ||
install-summary.dcf | 13-Apr-2023 00:05 | 268 | ||