Name | Last modified | Size | Description | |
---|---|---|---|---|
Parent Directory | - | |||
buildbin-out.txt | 08-Jul-2022 00:12 | 2.7K | ||
buildbin-summary.dcf | 08-Jul-2022 00:12 | 434 | ||
buildsrc-out.txt | 08-Jul-2022 00:12 | 834 | ||
buildsrc-summary.dcf | 08-Jul-2022 00:12 | 418 | ||
install-out.txt | 12-Jul-2022 00:06 | 2.3K | ||
install-summary.dcf | 12-Jul-2022 00:06 | 263 | ||