Name | Last modified | Size | Description | |
---|---|---|---|---|
Parent Directory | - | |||
buildbin-out.txt | 08-Jul-2022 00:12 | 3.7K | ||
buildbin-summary.dcf | 08-Jul-2022 00:12 | 439 | ||
buildsrc-out.txt | 08-Jul-2022 00:12 | 901 | ||
buildsrc-summary.dcf | 08-Jul-2022 00:12 | 422 | ||
install-out.txt | 12-Jul-2022 00:06 | 3.4K | ||
install-summary.dcf | 12-Jul-2022 00:06 | 265 | ||