Name | Last modified | Size | Description | |
---|---|---|---|---|
Parent Directory | - | |||
checksrc-out.txt | 13-Apr-2023 00:06 | 3.3K | ||
buildbin-out.txt | 13-Apr-2023 00:06 | 2.6K | ||
install-out.txt | 13-Apr-2023 00:06 | 1.8K | ||
buildsrc-out.txt | 13-Apr-2023 00:06 | 834 | ||
buildbin-summary.dcf | 13-Apr-2023 00:06 | 511 | ||
checksrc-summary.dcf | 13-Apr-2023 00:06 | 431 | ||
buildsrc-summary.dcf | 13-Apr-2023 00:06 | 418 | ||
install-summary.dcf | 13-Apr-2023 00:06 | 262 | ||