Name | Last modified | Size | Description | |
---|---|---|---|---|
Parent Directory | - | |||
checksrc-out.txt | 13-Apr-2023 00:06 | 6.7K | ||
buildbin-out.txt | 13-Apr-2023 00:06 | 2.0K | ||
install-out.txt | 13-Apr-2023 00:06 | 1.8K | ||
buildsrc-out.txt | 13-Apr-2023 00:06 | 820 | ||
buildbin-summary.dcf | 13-Apr-2023 00:06 | 536 | ||
checksrc-summary.dcf | 13-Apr-2023 00:06 | 448 | ||
buildsrc-summary.dcf | 13-Apr-2023 00:06 | 430 | ||
install-summary.dcf | 13-Apr-2023 00:06 | 271 | ||