Index of /checkResults/3.16/bioc-LATEST/RnBeads/raw-results/kjohnson
Name
Last modified
Size
Description
Parent Directory
-
buildsrc-out.txt
08-Jul-2022 00:11
892
buildsrc-summary.dcf
08-Jul-2022 00:11
342
install-out.txt
12-Jul-2022 00:06
695
install-summary.dcf
12-Jul-2022 00:06
271