Name | Last modified | Size | Description | |
---|---|---|---|---|
Parent Directory | - | |||
buildbin-out.txt | 13-Apr-2023 00:06 | 1.6K | ||
buildbin-summary.dcf | 13-Apr-2023 00:06 | 566 | ||
buildsrc-out.txt | 13-Apr-2023 00:06 | 1.1K | ||
buildsrc-summary.dcf | 13-Apr-2023 00:06 | 446 | ||
checksrc-out.txt | 13-Apr-2023 00:06 | 4.8K | ||
checksrc-summary.dcf | 13-Apr-2023 00:06 | 474 | ||
install-out.txt | 13-Apr-2023 00:06 | 1.3K | ||
install-summary.dcf | 13-Apr-2023 00:06 | 281 | ||