![]() | Name | Last modified | Size | Description |
---|---|---|---|---|
![]() | Parent Directory | - | ||
![]() | install-summary.dcf | 13-Apr-2023 00:05 | 264 | |
![]() | install-out.txt | 13-Apr-2023 00:05 | 1.1K | |
![]() | checksrc-summary.dcf | 13-Apr-2023 00:05 | 443 | |
![]() | checksrc-out.txt | 13-Apr-2023 00:05 | 4.4K | |
![]() | buildsrc-summary.dcf | 13-Apr-2023 00:05 | 444 | |
![]() | buildsrc-out.txt | 13-Apr-2023 00:05 | 889 | |
![]() | buildbin-summary.dcf | 13-Apr-2023 00:05 | 503 | |
![]() | buildbin-out.txt | 13-Apr-2023 00:05 | 1.2K | |