Index of /checkResults/3.16/bioc-LATEST/Rcade/raw-results/kjohnson
Name
Last modified
Size
Description
Parent Directory
-
install-summary.dcf
12-Jul-2022 00:06
268
install-out.txt
12-Jul-2022 00:06
814
buildsrc-summary.dcf
08-Jul-2022 00:11
338
buildsrc-out.txt
08-Jul-2022 00:11
879