Name | Last modified | Size | Description | |
---|---|---|---|---|
Parent Directory | - | |||
install-summary.dcf | 13-Apr-2023 00:05 | 261 | ||
checksrc-summary.dcf | 13-Apr-2023 00:05 | 433 | ||
buildsrc-summary.dcf | 13-Apr-2023 00:05 | 438 | ||
buildbin-summary.dcf | 13-Apr-2023 00:05 | 494 | ||
buildsrc-out.txt | 13-Apr-2023 00:05 | 855 | ||
install-out.txt | 13-Apr-2023 00:05 | 3.3K | ||
buildbin-out.txt | 13-Apr-2023 00:05 | 3.4K | ||
checksrc-out.txt | 13-Apr-2023 00:05 | 3.7K | ||