Name | Last modified | Size | Description | |
---|---|---|---|---|
Parent Directory | - | |||
buildbin-out.txt | 13-Apr-2023 00:06 | 3.3K | ||
buildbin-summary.dcf | 13-Apr-2023 00:06 | 509 | ||
buildsrc-out.txt | 13-Apr-2023 00:06 | 833 | ||
buildsrc-summary.dcf | 13-Apr-2023 00:06 | 416 | ||
checksrc-out.txt | 13-Apr-2023 00:06 | 3.2K | ||
checksrc-summary.dcf | 13-Apr-2023 00:06 | 430 | ||
install-out.txt | 13-Apr-2023 00:06 | 2.5K | ||
install-summary.dcf | 13-Apr-2023 00:06 | 262 | ||