![]() | Name | Last modified | Size | Description |
---|---|---|---|---|
![]() | Parent Directory | - | ||
![]() | install-out.txt | 13-Apr-2023 00:05 | 960 | |
![]() | install-summary.dcf | 13-Apr-2023 00:05 | 259 | |
![]() | buildsrc-out.txt | 13-Apr-2023 00:05 | 869 | |
![]() | buildsrc-summary.dcf | 13-Apr-2023 00:05 | 418 | |
![]() | checksrc-out.txt | 13-Apr-2023 00:05 | 4.3K | |
![]() | checksrc-summary.dcf | 13-Apr-2023 00:05 | 414 | |