Index of /checkResults/3.16/bioc-LATEST/RNAmodR.AlkAnilineSeq/raw-results/kjohnson
Name
Last modified
Size
Description
Parent Directory
-
buildsrc-out.txt
08-Jul-2022 00:11
1.0K
buildsrc-summary.dcf
08-Jul-2022 00:11
370
install-out.txt
12-Jul-2022 00:06
750
install-summary.dcf
12-Jul-2022 00:06
299