Name | Last modified | Size | Description | |
---|---|---|---|---|
Parent Directory | - | |||
checksrc-out.txt | 13-Apr-2023 00:05 | 3.4K | ||
checksrc-summary.dcf | 13-Apr-2023 00:05 | 421 | ||
buildsrc-summary.dcf | 13-Apr-2023 00:05 | 423 | ||
buildsrc-out.txt | 13-Apr-2023 00:05 | 814 | ||
install-summary.dcf | 13-Apr-2023 00:05 | 262 | ||
install-out.txt | 13-Apr-2023 00:05 | 958 | ||