Name | Last modified | Size | Description | |
---|---|---|---|---|
Parent Directory | - | |||
checksrc-summary.dcf | 13-Apr-2023 00:05 | 442 | ||
checksrc-out.txt | 13-Apr-2023 00:05 | 3.6K | ||
buildsrc-summary.dcf | 13-Apr-2023 00:05 | 439 | ||
buildsrc-out.txt | 13-Apr-2023 00:05 | 904 | ||
install-summary.dcf | 13-Apr-2023 00:05 | 273 | ||
install-out.txt | 13-Apr-2023 00:05 | 2.0K | ||