Name | Last modified | Size | Description | |
---|---|---|---|---|
Parent Directory | - | |||
install-summary.dcf | 13-Apr-2023 00:06 | 276 | ||
install-out.txt | 13-Apr-2023 00:06 | 3.8K | ||
checksrc-summary.dcf | 13-Apr-2023 00:06 | 464 | ||
checksrc-out.txt | 13-Apr-2023 00:06 | 5.5K | ||
buildsrc-summary.dcf | 13-Apr-2023 00:06 | 438 | ||
buildsrc-out.txt | 13-Apr-2023 00:06 | 1.1K | ||
buildbin-summary.dcf | 13-Apr-2023 00:06 | 551 | ||
buildbin-out.txt | 13-Apr-2023 00:06 | 4.0K | ||