Index of /checkResults/3.16/bioc-LATEST/PrecisionTrialDrawer/raw-results/palomino4
Name
Last modified
Size
Description
Parent Directory
-
install-out.txt
13-Apr-2023 00:05
1.0K
install-summary.dcf
13-Apr-2023 00:05
294
buildsrc-summary.dcf
13-Apr-2023 00:05
407
buildsrc-out.txt
13-Apr-2023 00:05
1.1K