Name | Last modified | Size | Description | |
---|---|---|---|---|
Parent Directory | - | |||
checksrc-summary.dcf | 13-Apr-2023 00:05 | 416 | ||
checksrc-out.txt | 13-Apr-2023 00:05 | 4.2K | ||
buildsrc-summary.dcf | 13-Apr-2023 00:05 | 415 | ||
buildsrc-out.txt | 13-Apr-2023 00:05 | 1.0K | ||
install-summary.dcf | 13-Apr-2023 00:05 | 257 | ||
install-out.txt | 13-Apr-2023 00:05 | 1.1K | ||