Name | Last modified | Size | Description | |
---|---|---|---|---|
Parent Directory | - | |||
install-summary.dcf | 13-Apr-2023 00:06 | 263 | ||
install-out.txt | 13-Apr-2023 00:06 | 4.7K | ||
checksrc-summary.dcf | 13-Apr-2023 00:06 | 432 | ||
checksrc-out.txt | 13-Apr-2023 00:06 | 4.0K | ||
buildsrc-summary.dcf | 13-Apr-2023 00:06 | 418 | ||
buildsrc-out.txt | 13-Apr-2023 00:06 | 882 | ||
buildbin-summary.dcf | 13-Apr-2023 00:06 | 512 | ||
buildbin-out.txt | 13-Apr-2023 00:06 | 5.5K | ||