Index of /checkResults/3.16/bioc-LATEST/PICS/raw-results/kjohnson
Name
Last modified
Size
Description
Parent Directory
-
buildsrc-out.txt
08-Jul-2022 00:11
5.5K
install-out.txt
12-Jul-2022 00:06
5.3K
buildsrc-summary.dcf
08-Jul-2022 00:11
337
install-summary.dcf
12-Jul-2022 00:06
266