Name | Last modified | Size | Description | |
---|---|---|---|---|
Parent Directory | - | |||
buildbin-out.txt | 13-Apr-2023 00:05 | 1.0K | ||
buildbin-summary.dcf | 13-Apr-2023 00:05 | 501 | ||
buildsrc-out.txt | 13-Apr-2023 00:05 | 829 | ||
buildsrc-summary.dcf | 13-Apr-2023 00:05 | 445 | ||
checksrc-out.txt | 13-Apr-2023 00:05 | 5.0K | ||
checksrc-summary.dcf | 13-Apr-2023 00:05 | 439 | ||
install-out.txt | 13-Apr-2023 00:05 | 947 | ||
install-summary.dcf | 13-Apr-2023 00:05 | 264 | ||