Index of /checkResults/3.16/bioc-LATEST/PAA/raw-results/kjohnson
Name
Last modified
Size
Description
Parent Directory
-
install-summary.dcf
12-Jul-2022 00:06
262
install-out.txt
12-Jul-2022 00:06
3.2K
buildsrc-summary.dcf
08-Jul-2022 00:11
334
buildsrc-out.txt
08-Jul-2022 00:11
882